BEGIN:VCALENDAR
VERSION:2.0
PRODID:-//SVP Stadt Bern //NONSGML Events //EN
CALSCALE:GREGORIAN
X-WR-CALNAME:SVP Stadt Bern
BEGIN:VEVENT
CREATED:20211201T110538Z
UID:680
DTEND:20220626T000000
DTSTART:20220624T000000
DTSTAMP:20260419T202200Z
LOCATION:
DESCRIPTION:
SUMMARY:Stadtfest Bern
ORGANIZER:
URL;VALUE=URI:https://www.svp-stadt-bern.ch/aktuell/termine/stadtfest-bern/
TRANSP:OPAQUE
END:VEVENT
END:VCALENDAR
